Package: EBImage Version: 4.51.0 Command: /home/biocbuild/bbs-3.22-bioc/R/bin/R CMD check --install=check:EBImage.install-out.txt --library=/home/biocbuild/bbs-3.22-bioc/R/site-library --timings EBImage_4.51.0.tar.gz StartedAt: 2025-07-07 22:00:32 -0400 (Mon, 07 Jul 2025) EndedAt: 2025-07-07 22:01:53 -0400 (Mon, 07 Jul 2025) EllapsedTime: 81.1 seconds RetCode: 0 Status: OK CheckDir: EBImage.Rcheck Warnings: 0