Package: DynDoc Version: 1.87.0 Command: F:\biocbuild\bbs-3.22-bioc\R\bin\R.exe CMD check --no-multiarch --install=check:DynDoc.install-out.txt --library=F:\biocbuild\bbs-3.22-bioc\R\library --no-vignettes --timings DynDoc_1.87.0.tar.gz StartedAt: 2025-07-02 01:31:53 -0400 (Wed, 02 Jul 2025) EndedAt: 2025-07-02 01:32:22 -0400 (Wed, 02 Jul 2025) EllapsedTime: 28.6 seconds RetCode: 0 Status: WARNINGS CheckDir: DynDoc.Rcheck Warnings: 1