Package: DynDoc Version: 1.87.0 Command: chmod a+r DynDoc -R && F:\biocbuild\bbs-3.22-bioc\R\bin\R.exe CMD build --keep-empty-dirs --no-resave-data DynDoc StartedAt: 2025-07-01 18:41:17 -0400 (Tue, 01 Jul 2025) EndedAt: 2025-07-01 18:41:20 -0400 (Tue, 01 Jul 2025) EllapsedTime: 3.3 seconds RetCode: 0 Status: OK PackageFile: DynDoc_1.87.0.tar.gz PackageFileSize: 10.98 KiB