Package: Dune Version: 1.21.0 Command: /home/biocbuild/R/R/bin/R CMD INSTALL Dune StartedAt: 2025-07-21 20:40:26 -0000 (Mon, 21 Jul 2025) EndedAt: 2025-07-21 20:40:57 -0000 (Mon, 21 Jul 2025) EllapsedTime: 31.6 seconds RetCode: 0 Status: OK