Package: Dune Version: 1.21.0 Command: /home/biocbuild/R/R/bin/R CMD check --install=check:Dune.install-out.txt --library=/home/biocbuild/R/R/site-library --no-vignettes --timings Dune_1.21.0.tar.gz StartedAt: 2025-07-22 06:43:12 -0000 (Tue, 22 Jul 2025) EndedAt: 2025-07-22 06:49:40 -0000 (Tue, 22 Jul 2025) EllapsedTime: 387.2 seconds RetCode: 0 Status: OK CheckDir: Dune.Rcheck Warnings: 0