Package: Dune Version: 1.21.0 Command: /home/biocbuild/R/R/bin/R CMD build --keep-empty-dirs --no-resave-data Dune StartedAt: 2025-07-21 23:28:49 -0000 (Mon, 21 Jul 2025) EndedAt: 2025-07-21 23:29:42 -0000 (Mon, 21 Jul 2025) EllapsedTime: 53.0 seconds RetCode: 0 Status: OK PackageFile: Dune_1.21.0.tar.gz PackageFileSize: 1.217 MiB