Package: Dune Version: 1.21.0 Command: /home/biocbuild/bbs-3.22-bioc/R/bin/R CMD INSTALL Dune StartedAt: 2025-07-01 15:16:33 -0400 (Tue, 01 Jul 2025) EndedAt: 2025-07-01 15:16:56 -0400 (Tue, 01 Jul 2025) EllapsedTime: 23.2 seconds RetCode: 0 Status: OK