Package: Dune Version: 1.21.0 Command: /Library/Frameworks/R.framework/Resources/bin/R CMD check --install=check:Dune.install-out.txt --library=/Library/Frameworks/R.framework/Resources/library --no-vignettes --timings Dune_1.21.0.tar.gz StartedAt: 2025-10-05 21:13:27 -0400 (Sun, 05 Oct 2025) EndedAt: 2025-10-05 21:19:29 -0400 (Sun, 05 Oct 2025) EllapsedTime: 362.2 seconds RetCode: 0 Status: OK CheckDir: Dune.Rcheck Warnings: 0