Package: Dune Version: 1.21.0 Command: /Library/Frameworks/R.framework/Resources/bin/R CMD build --keep-empty-dirs --no-resave-data Dune StartedAt: 2025-10-05 16:52:46 -0400 (Sun, 05 Oct 2025) EndedAt: 2025-10-05 16:53:37 -0400 (Sun, 05 Oct 2025) EllapsedTime: 50.2 seconds RetCode: 0 Status: OK PackageFile: Dune_1.21.0.tar.gz PackageFileSize: 2.295 MiB