Package: Dune Version: 1.21.0 Command: /Library/Frameworks/R.framework/Resources/bin/R CMD INSTALL Dune StartedAt: 2025-10-05 15:11:37 -0400 (Sun, 05 Oct 2025) EndedAt: 2025-10-05 15:11:48 -0400 (Sun, 05 Oct 2025) EllapsedTime: 10.8 seconds RetCode: 0 Status: OK