Package: Dune Version: 1.21.0 Command: /Library/Frameworks/R.framework/Resources/bin/R CMD check --install=check:Dune.install-out.txt --library=/Library/Frameworks/R.framework/Resources/library --no-vignettes --timings Dune_1.21.0.tar.gz StartedAt: 2025-10-05 19:22:14 -0400 (Sun, 05 Oct 2025) EndedAt: 2025-10-05 19:24:08 -0400 (Sun, 05 Oct 2025) EllapsedTime: 114.5 seconds RetCode: 1 Status: ERROR CheckDir: Dune.Rcheck Warnings: NA