Package: Doscheda Version: 1.31.0 Command: /home/biocbuild/R/R/bin/R CMD build --keep-empty-dirs --no-resave-data Doscheda StartedAt: 2025-07-14 23:17:38 -0000 (Mon, 14 Jul 2025) EndedAt: 2025-07-14 23:18:30 -0000 (Mon, 14 Jul 2025) EllapsedTime: 52.0 seconds RetCode: 0 Status: OK PackageFile: Doscheda_1.31.0.tar.gz PackageFileSize: 3.279 MiB