Package: Doscheda Version: 1.31.0 Command: /Library/Frameworks/R.framework/Resources/bin/R CMD INSTALL Doscheda StartedAt: 2025-07-01 15:27:28 -0400 (Tue, 01 Jul 2025) EndedAt: 2025-07-01 15:27:45 -0400 (Tue, 01 Jul 2025) EllapsedTime: 17.5 seconds RetCode: 0 Status: OK