Package: Doscheda Version: 1.31.0 Command: rm -rf Doscheda.buildbin-libdir && mkdir Doscheda.buildbin-libdir && /Users/biocbuild/BBS/utils/build-universal.sh Doscheda_1.31.0.tar.gz /Library/Frameworks/R.framework/Resources/bin/R Doscheda.buildbin-libdir StartedAt: 2025-07-02 00:55:10 -0400 (Wed, 02 Jul 2025) EndedAt: 2025-07-02 00:55:32 -0400 (Wed, 02 Jul 2025) EllapsedTime: 22.0 seconds RetCode: 0 Status: OK PackageFile: Doscheda_1.31.0.tgz PackageFileSize: 4.535 MiB