Package: DiscoRhythm Version: 1.25.0 Command: /home/biocbuild/R/R/bin/R CMD INSTALL DiscoRhythm StartedAt: 2025-07-14 20:30:42 -0000 (Mon, 14 Jul 2025) EndedAt: 2025-07-14 20:31:16 -0000 (Mon, 14 Jul 2025) EllapsedTime: 34.6 seconds RetCode: 0 Status: OK