Package: DiscoRhythm Version: 1.25.0 Command: /home/biocbuild/R/R/bin/R CMD check --install=check:DiscoRhythm.install-out.txt --library=/home/biocbuild/R/R/site-library --no-vignettes --timings DiscoRhythm_1.25.0.tar.gz StartedAt: 2025-07-15 06:49:55 -0000 (Tue, 15 Jul 2025) EndedAt: 2025-07-15 06:54:04 -0000 (Tue, 15 Jul 2025) EllapsedTime: 248.2 seconds RetCode: 0 Status: OK CheckDir: DiscoRhythm.Rcheck Warnings: 0