Package: DiscoRhythm Version: 1.25.0 Command: /home/biocbuild/R/R/bin/R CMD build --keep-empty-dirs --no-resave-data DiscoRhythm StartedAt: 2025-07-14 23:13:16 -0000 (Mon, 14 Jul 2025) EndedAt: 2025-07-14 23:14:08 -0000 (Mon, 14 Jul 2025) EllapsedTime: 52.0 seconds RetCode: 0 Status: OK PackageFile: DiscoRhythm_1.25.0.tar.gz PackageFileSize: 2.614 MiB