Package: DiscoRhythm Version: 1.25.0 Command: /Library/Frameworks/R.framework/Resources/bin/R CMD INSTALL DiscoRhythm StartedAt: 2025-07-11 15:11:00 -0400 (Fri, 11 Jul 2025) EndedAt: 2025-07-11 15:11:10 -0400 (Fri, 11 Jul 2025) EllapsedTime: 10.4 seconds RetCode: 0 Status: OK