Package: DiscoRhythm Version: 1.25.0 Command: rm -rf DiscoRhythm.buildbin-libdir && mkdir DiscoRhythm.buildbin-libdir && /Users/biocbuild/BBS/utils/build-universal.sh DiscoRhythm_1.25.0.tar.gz /Library/Frameworks/R.framework/Resources/bin/R DiscoRhythm.buildbin-libdir StartedAt: 2025-07-11 22:17:56 -0400 (Fri, 11 Jul 2025) EndedAt: 2025-07-11 22:18:09 -0400 (Fri, 11 Jul 2025) EllapsedTime: 12.2 seconds RetCode: 0 Status: OK PackageFile: DiscoRhythm_1.25.0.tgz PackageFileSize: 1.914 MiB