Package: DirichletMultinomial Version: 1.51.0 Command: /home/biocbuild/R/R/bin/R CMD INSTALL DirichletMultinomial StartedAt: 2025-07-03 20:33:17 -0000 (Thu, 03 Jul 2025) EndedAt: 2025-07-03 20:33:27 -0000 (Thu, 03 Jul 2025) EllapsedTime: 10.8 seconds RetCode: 0 Status: OK