Package: DirichletMultinomial Version: 1.51.0 Command: /home/biocbuild/R/R/bin/R CMD check --install=check:DirichletMultinomial.install-out.txt --library=/home/biocbuild/R/R/site-library --no-vignettes --timings DirichletMultinomial_1.51.0.tar.gz StartedAt: 2025-07-04 06:22:15 -0000 (Fri, 04 Jul 2025) EndedAt: 2025-07-04 06:23:18 -0000 (Fri, 04 Jul 2025) EllapsedTime: 62.1 seconds RetCode: 0 Status: WARNINGS CheckDir: DirichletMultinomial.Rcheck Warnings: 1