Package: DirichletMultinomial Version: 1.51.0 Command: /home/biocbuild/R/R/bin/R CMD build --keep-empty-dirs --no-resave-data DirichletMultinomial StartedAt: 2025-07-03 23:33:12 -0000 (Thu, 03 Jul 2025) EndedAt: 2025-07-03 23:33:34 -0000 (Thu, 03 Jul 2025) EllapsedTime: 22.0 seconds RetCode: 0 Status: OK PackageFile: DirichletMultinomial_1.51.0.tar.gz PackageFileSize: 845.4 KiB