Package: DirichletMultinomial Version: 1.51.0 Command: rm -rf DirichletMultinomial.buildbin-libdir && mkdir DirichletMultinomial.buildbin-libdir && F:\biocbuild\bbs-3.22-bioc\R\bin\R.exe CMD INSTALL --build --library=DirichletMultinomial.buildbin-libdir DirichletMultinomial_1.51.0.tar.gz StartedAt: 2025-07-03 08:56:38 -0400 (Thu, 03 Jul 2025) EndedAt: 2025-07-03 08:58:35 -0400 (Thu, 03 Jul 2025) EllapsedTime: 117.2 seconds RetCode: 0 Status: OK PackageFile: DirichletMultinomial_1.51.0.zip PackageFileSize: 1.016 MiB