Package: Dino Version: 1.15.0 Command: /home/biocbuild/R/R/bin/R CMD INSTALL Dino StartedAt: 2025-07-14 21:16:13 -0000 (Mon, 14 Jul 2025) EndedAt: 2025-07-14 21:17:05 -0000 (Mon, 14 Jul 2025) EllapsedTime: 51.9 seconds RetCode: 0 Status: OK