Package: Dino Version: 1.15.0 Command: /home/biocbuild/R/R/bin/R CMD build --keep-empty-dirs --no-resave-data Dino StartedAt: 2025-07-14 23:12:55 -0000 (Mon, 14 Jul 2025) EndedAt: 2025-07-14 23:15:11 -0000 (Mon, 14 Jul 2025) EllapsedTime: 135.1 seconds RetCode: 0 Status: OK PackageFile: Dino_1.15.0.tar.gz PackageFileSize: 927.7 KiB