Package: Dino Version: 1.15.0 Command: chmod a+r Dino -R && F:\biocbuild\bbs-3.22-bioc\R\bin\R.exe CMD build --keep-empty-dirs --no-resave-data Dino StartedAt: 2025-08-14 19:44:46 -0400 (Thu, 14 Aug 2025) EndedAt: 2025-08-14 19:48:38 -0400 (Thu, 14 Aug 2025) EllapsedTime: 231.5 seconds RetCode: 0 Status: OK PackageFile: Dino_1.15.0.tar.gz PackageFileSize: 914.3 KiB