Package: DifferentialRegulation Version: 2.7.0 Command: F:\biocbuild\bbs-3.22-bioc\R\bin\R.exe CMD check --no-multiarch --install=check:DifferentialRegulation.install-out.txt --library=F:\biocbuild\bbs-3.22-bioc\R\library --no-vignettes --timings DifferentialRegulation_2.7.0.tar.gz StartedAt: 2025-07-03 01:27:04 -0400 (Thu, 03 Jul 2025) EndedAt: 2025-07-03 01:34:39 -0400 (Thu, 03 Jul 2025) EllapsedTime: 455.7 seconds RetCode: 0 Status: OK CheckDir: DifferentialRegulation.Rcheck Warnings: 0