Package: DifferentialRegulation Version: 2.7.0 Command: /Library/Frameworks/R.framework/Resources/bin/R CMD build --keep-empty-dirs --no-resave-data DifferentialRegulation StartedAt: 2025-07-14 16:46:15 -0400 (Mon, 14 Jul 2025) EndedAt: 2025-07-14 16:49:46 -0400 (Mon, 14 Jul 2025) EllapsedTime: 210.1 seconds RetCode: 0 Status: OK PackageFile: DifferentialRegulation_2.7.0.tar.gz PackageFileSize: 2.805 MiB