Package: DifferentialRegulation Version: 2.7.0 Command: rm -rf DifferentialRegulation.buildbin-libdir && mkdir DifferentialRegulation.buildbin-libdir && /Users/biocbuild/BBS/utils/build-universal.sh DifferentialRegulation_2.7.0.tar.gz /Library/Frameworks/R.framework/Resources/bin/R DifferentialRegulation.buildbin-libdir StartedAt: 2025-07-15 00:54:14 -0400 (Tue, 15 Jul 2025) EndedAt: 2025-07-15 00:55:20 -0400 (Tue, 15 Jul 2025) EllapsedTime: 66.0 seconds RetCode: 0 Status: OK PackageFile: DifferentialRegulation_2.7.0.tgz PackageFileSize: 2.957 MiB