Package: DiffLogo Version: 2.33.0 Command: chmod a+r DiffLogo -R && F:\biocbuild\bbs-3.22-bioc\R\bin\R.exe CMD build --keep-empty-dirs --no-resave-data DiffLogo StartedAt: 2025-07-13 18:37:34 -0400 (Sun, 13 Jul 2025) EndedAt: 2025-07-13 18:38:56 -0400 (Sun, 13 Jul 2025) EllapsedTime: 82.0 seconds RetCode: 0 Status: OK PackageFile: DiffLogo_2.33.0.tar.gz PackageFileSize: 816.9 KiB