Package: DiffBind Version: 3.19.0 Command: /home/biocbuild/R/R/bin/R CMD INSTALL DiffBind StartedAt: 2025-07-14 21:18:14 -0000 (Mon, 14 Jul 2025) EndedAt: 2025-07-14 21:19:56 -0000 (Mon, 14 Jul 2025) EllapsedTime: 101.8 seconds RetCode: 0 Status: OK