Package: DiffBind Version: 3.19.0 Command: F:\biocbuild\bbs-3.22-bioc\R\bin\R.exe CMD INSTALL DiffBind StartedAt: 2025-07-16 16:16:39 -0400 (Wed, 16 Jul 2025) EndedAt: 2025-07-16 16:19:19 -0400 (Wed, 16 Jul 2025) EllapsedTime: 160.2 seconds RetCode: 0 Status: OK