Package: DiffBind Version: 3.19.0 Command: chmod a+r DiffBind -R && F:\biocbuild\bbs-3.22-bioc\R\bin\R.exe CMD build --keep-empty-dirs --no-resave-data DiffBind StartedAt: 2025-07-17 18:33:11 -0400 (Thu, 17 Jul 2025) EndedAt: 2025-07-17 18:38:27 -0400 (Thu, 17 Jul 2025) EllapsedTime: 315.9 seconds RetCode: 0 Status: OK PackageFile: DiffBind_3.19.0.tar.gz PackageFileSize: 6.489 MiB