Package: DiffBind Version: 3.19.0 Command: rm -rf DiffBind.buildbin-libdir && mkdir DiffBind.buildbin-libdir && F:\biocbuild\bbs-3.22-bioc\R\bin\R.exe CMD INSTALL --build --library=DiffBind.buildbin-libdir DiffBind_3.19.0.tar.gz StartedAt: 2025-07-17 08:50:34 -0400 (Thu, 17 Jul 2025) EndedAt: 2025-07-17 08:53:07 -0400 (Thu, 17 Jul 2025) EllapsedTime: 152.9 seconds RetCode: 0 Status: OK PackageFile: DiffBind_3.19.0.zip PackageFileSize: 11.85 MiB