Package: DiffBind Version: 3.19.0 Command: /Library/Frameworks/R.framework/Resources/bin/R CMD INSTALL DiffBind StartedAt: 2025-07-16 15:42:20 -0400 (Wed, 16 Jul 2025) EndedAt: 2025-07-16 15:44:02 -0400 (Wed, 16 Jul 2025) EllapsedTime: 102.4 seconds RetCode: 0 Status: OK