Package: DiffBind Version: 3.19.0 Command: rm -rf DiffBind.buildbin-libdir && mkdir DiffBind.buildbin-libdir && /Users/biocbuild/BBS/utils/build-universal.sh DiffBind_3.19.0.tar.gz /Library/Frameworks/R.framework/Resources/bin/R DiffBind.buildbin-libdir StartedAt: 2025-07-18 00:48:39 -0400 (Fri, 18 Jul 2025) EndedAt: 2025-07-18 00:50:28 -0400 (Fri, 18 Jul 2025) EllapsedTime: 109.6 seconds RetCode: 0 Status: OK PackageFile: DiffBind_3.19.0.tgz PackageFileSize: 7.097 MiB