Package: DiffBind Version: 3.19.0 Command: /Library/Frameworks/R.framework/Resources/bin/R CMD INSTALL DiffBind StartedAt: 2025-07-14 15:27:14 -0400 (Mon, 14 Jul 2025) EndedAt: 2025-07-14 15:27:42 -0400 (Mon, 14 Jul 2025) EllapsedTime: 28.7 seconds RetCode: 0 Status: OK