Package: DiffBind Version: 3.19.0 Command: /Library/Frameworks/R.framework/Resources/bin/R CMD build --keep-empty-dirs --no-resave-data DiffBind StartedAt: 2025-07-14 16:07:55 -0400 (Mon, 14 Jul 2025) EndedAt: 2025-07-14 16:09:17 -0400 (Mon, 14 Jul 2025) EllapsedTime: 82.9 seconds RetCode: 0 Status: OK PackageFile: DiffBind_3.19.0.tar.gz PackageFileSize: 6.485 MiB