Package: DiffBind Version: 3.19.0 Maintainer: Rory Stark MaintainerEmail: bioconductor at starkhome.com git_url: https://git.bioconductor.org/packages/DiffBind git_branch: devel git_last_commit: 200f567 git_last_commit_date: 2025-04-15 10:10:30 -0400 (Tue, 15 Apr 2025)