Package: DepecheR Version: 1.25.0 Command: F:\biocbuild\bbs-3.22-bioc\R\bin\R.exe CMD INSTALL DepecheR StartedAt: 2025-08-14 15:31:31 -0400 (Thu, 14 Aug 2025) EndedAt: 2025-08-14 15:32:22 -0400 (Thu, 14 Aug 2025) EllapsedTime: 50.3 seconds RetCode: 0 Status: OK