Package: DepecheR Version: 1.25.0 Command: F:\biocbuild\bbs-3.22-bioc\R\bin\R.exe CMD check --no-multiarch --install=check:DepecheR.install-out.txt --library=F:\biocbuild\bbs-3.22-bioc\R\library --no-vignettes --timings DepecheR_1.25.0.tar.gz StartedAt: 2025-08-15 02:30:16 -0400 (Fri, 15 Aug 2025) EndedAt: 2025-08-15 02:34:08 -0400 (Fri, 15 Aug 2025) EllapsedTime: 231.5 seconds RetCode: 0 Status: OK CheckDir: DepecheR.Rcheck Warnings: 0