Package: DepecheR Version: 1.25.0 Command: chmod a+r DepecheR -R && F:\biocbuild\bbs-3.22-bioc\R\bin\R.exe CMD build --keep-empty-dirs --no-resave-data DepecheR StartedAt: 2025-08-14 19:39:24 -0400 (Thu, 14 Aug 2025) EndedAt: 2025-08-14 19:40:41 -0400 (Thu, 14 Aug 2025) EllapsedTime: 77.7 seconds RetCode: 0 Status: OK PackageFile: DepecheR_1.25.0.tar.gz PackageFileSize: 2.561 MiB