Package: DepecheR Version: 1.25.0 Command: rm -rf DepecheR.buildbin-libdir && mkdir DepecheR.buildbin-libdir && F:\biocbuild\bbs-3.22-bioc\R\bin\R.exe CMD INSTALL --build --library=DepecheR.buildbin-libdir DepecheR_1.25.0.tar.gz StartedAt: 2025-08-15 10:08:20 -0400 (Fri, 15 Aug 2025) EndedAt: 2025-08-15 10:09:02 -0400 (Fri, 15 Aug 2025) EllapsedTime: 41.9 seconds RetCode: 0 Status: OK PackageFile: DepecheR_1.25.0.zip PackageFileSize: 3.059 MiB