Package: DepecheR Version: 1.25.0 Command: /Library/Frameworks/R.framework/Resources/bin/R CMD build --keep-empty-dirs --no-resave-data DepecheR StartedAt: 2025-07-11 16:06:11 -0400 (Fri, 11 Jul 2025) EndedAt: 2025-07-11 16:06:31 -0400 (Fri, 11 Jul 2025) EllapsedTime: 20.2 seconds RetCode: 0 Status: OK PackageFile: DepecheR_1.25.0.tar.gz PackageFileSize: 2.561 MiB