Package: DepInfeR Version: 1.13.0 Command: /home/biocbuild/R/R/bin/R CMD INSTALL DepInfeR StartedAt: 2025-07-03 20:21:31 -0000 (Thu, 03 Jul 2025) EndedAt: 2025-07-03 20:22:10 -0000 (Thu, 03 Jul 2025) EllapsedTime: 38.8 seconds RetCode: 0 Status: OK