Package: DepInfeR Version: 1.13.0 Command: F:\biocbuild\bbs-3.22-bioc\R\bin\R.exe CMD check --no-multiarch --install=check:DepInfeR.install-out.txt --library=F:\biocbuild\bbs-3.22-bioc\R\library --no-vignettes --timings DepInfeR_1.13.0.tar.gz StartedAt: 2025-07-15 01:16:37 -0400 (Tue, 15 Jul 2025) EndedAt: 2025-07-15 01:18:37 -0400 (Tue, 15 Jul 2025) EllapsedTime: 120.9 seconds RetCode: 0 Status: OK CheckDir: DepInfeR.Rcheck Warnings: 0