Package: DepInfeR Version: 1.13.0 Command: chmod a+r DepInfeR -R && F:\biocbuild\bbs-3.22-bioc\R\bin\R.exe CMD build --keep-empty-dirs --no-resave-data DepInfeR StartedAt: 2025-07-14 18:31:05 -0400 (Mon, 14 Jul 2025) EndedAt: 2025-07-14 18:32:28 -0400 (Mon, 14 Jul 2025) EllapsedTime: 82.5 seconds RetCode: 0 Status: OK PackageFile: DepInfeR_1.13.0.tar.gz PackageFileSize: 1.753 MiB