Package: DepInfeR Version: 1.13.0 Command: rm -rf DepInfeR.buildbin-libdir && mkdir DepInfeR.buildbin-libdir && F:\biocbuild\bbs-3.22-bioc\R\bin\R.exe CMD INSTALL --build --library=DepInfeR.buildbin-libdir DepInfeR_1.13.0.tar.gz StartedAt: 2025-07-15 08:47:49 -0400 (Tue, 15 Jul 2025) EndedAt: 2025-07-15 08:48:04 -0400 (Tue, 15 Jul 2025) EllapsedTime: 15.0 seconds RetCode: 0 Status: OK PackageFile: DepInfeR_1.13.0.zip PackageFileSize: 1.775 MiB