Package: DelayedArray Version: 0.35.3 Command: /Library/Frameworks/R.framework/Resources/bin/R CMD INSTALL DelayedArray StartedAt: 2025-10-05 15:17:44 -0400 (Sun, 05 Oct 2025) EndedAt: 2025-10-05 15:18:24 -0400 (Sun, 05 Oct 2025) EllapsedTime: 40.1 seconds RetCode: 0 Status: OK