Package: DelayedArray Version: 0.35.3 Command: _R_CHECK_CODETOOLS_PROFILE_="suppressFundefMismatch=TRUE" /Library/Frameworks/R.framework/Resources/bin/R CMD check --install=check:DelayedArray.install-out.txt --library=/Library/Frameworks/R.framework/Resources/library --no-vignettes --timings DelayedArray_0.35.3.tar.gz StartedAt: 2025-10-05 19:12:12 -0400 (Sun, 05 Oct 2025) EndedAt: 2025-10-05 19:13:50 -0400 (Sun, 05 Oct 2025) EllapsedTime: 97.2 seconds RetCode: 0 Status: WARNINGS CheckDir: DelayedArray.Rcheck Warnings: 1